Package: RUVnormalize Version: 1.43.0 Command: rm -rf RUVnormalize.buildbin-libdir && mkdir RUVnormalize.buildbin-libdir && F:\biocbuild\bbs-3.22-bioc\R\bin\R.exe CMD INSTALL --build --library=RUVnormalize.buildbin-libdir RUVnormalize_1.43.0.tar.gz StartedAt: 2025-08-15 11:12:19 -0400 (Fri, 15 Aug 2025) EndedAt: 2025-08-15 11:12:39 -0400 (Fri, 15 Aug 2025) EllapsedTime: 19.6 seconds RetCode: 0 Status: OK PackageFile: RUVnormalize_1.43.0.zip PackageFileSize: 227.4 KiB