Package: RUVcorr Version: 1.39.0 Command: /Library/Frameworks/R.framework/Resources/bin/R CMD INSTALL RUVcorr StartedAt: 2025-02-02 15:14:38 -0500 (Sun, 02 Feb 2025) EndedAt: 2025-02-02 15:14:45 -0500 (Sun, 02 Feb 2025) EllapsedTime: 7.6 seconds RetCode: 0 Status: OK