Package: RUVcorr Version: 1.41.0 Command: /Library/Frameworks/R.framework/Resources/bin/R CMD check --install=check:RUVcorr.install-out.txt --library=/Library/Frameworks/R.framework/Resources/library --no-vignettes --timings RUVcorr_1.41.0.tar.gz StartedAt: 2025-04-27 23:05:02 -0400 (Sun, 27 Apr 2025) EndedAt: 2025-04-27 23:06:02 -0400 (Sun, 27 Apr 2025) EllapsedTime: 60.0 seconds RetCode: 0 Status: WARNINGS CheckDir: RUVcorr.Rcheck Warnings: 1