Package: RUVcorr Version: 1.39.0 Command: /Library/Frameworks/R.framework/Resources/bin/R CMD build --keep-empty-dirs --no-resave-data RUVcorr StartedAt: 2025-02-02 18:02:46 -0500 (Sun, 02 Feb 2025) EndedAt: 2025-02-02 18:03:37 -0500 (Sun, 02 Feb 2025) EllapsedTime: 50.4 seconds RetCode: 0 Status: OK PackageFile: RUVcorr_1.39.0.tar.gz PackageFileSize: 672.3 KiB