Package: RUVcorr Version: 1.41.0 Command: /Library/Frameworks/R.framework/Resources/bin/R CMD build --keep-empty-dirs --no-resave-data RUVcorr StartedAt: 2025-05-08 17:33:02 -0400 (Thu, 08 May 2025) EndedAt: 2025-05-08 17:33:24 -0400 (Thu, 08 May 2025) EllapsedTime: 22.3 seconds RetCode: 0 Status: OK PackageFile: RUVcorr_1.41.0.tar.gz PackageFileSize: 672.6 KiB