Package: RUVcorr Version: 1.41.0 Command: rm -rf RUVcorr.buildbin-libdir && mkdir RUVcorr.buildbin-libdir && /Users/biocbuild/BBS/utils/build-universal.sh RUVcorr_1.41.0.tar.gz /Library/Frameworks/R.framework/Resources/bin/R RUVcorr.buildbin-libdir StartedAt: 2025-05-08 23:28:49 -0400 (Thu, 08 May 2025) EndedAt: 2025-05-08 23:28:52 -0400 (Thu, 08 May 2025) EllapsedTime: 3.1 seconds RetCode: 0 Status: OK PackageFile: RUVcorr_1.41.0.tgz PackageFileSize: 797 KiB