Package: RUVSeq Version: 1.43.0 Command: rm -rf RUVSeq.buildbin-libdir && mkdir RUVSeq.buildbin-libdir && /Users/biocbuild/BBS/utils/build-universal.sh RUVSeq_1.43.0.tar.gz /Library/Frameworks/R.framework/Resources/bin/R RUVSeq.buildbin-libdir StartedAt: 2025-05-28 00:59:29 -0400 (Wed, 28 May 2025) EndedAt: 2025-05-28 01:00:26 -0400 (Wed, 28 May 2025) EllapsedTime: 56.8 seconds RetCode: 0 Status: OK PackageFile: RUVSeq_1.43.0.tgz PackageFileSize: 536.5 KiB