Package: RUCova Version: 1.1.0 Command: /home/biocbuild/bbs-3.22-bioc/R/bin/R CMD INSTALL RUCova StartedAt: 2025-10-12 15:22:04 -0400 (Sun, 12 Oct 2025) EndedAt: 2025-10-12 15:22:30 -0400 (Sun, 12 Oct 2025) EllapsedTime: 25.3 seconds RetCode: 0 Status: OK