Package: RUCova Version: 1.1.0 Command: /home/biocbuild/bbs-3.22-bioc/R/bin/R CMD build --keep-empty-dirs --no-resave-data --md5 RUCova StartedAt: 2025-10-12 19:43:11 -0400 (Sun, 12 Oct 2025) EndedAt: 2025-10-12 19:44:15 -0400 (Sun, 12 Oct 2025) EllapsedTime: 64.1 seconds RetCode: 0 Status: OK PackageFile: RUCova_1.1.0.tar.gz PackageFileSize: 5.426 MiB