Package: RUCova Version: 1.3.0 Command: /Library/Frameworks/R.framework/Resources/bin/R CMD INSTALL RUCova StartedAt: 2025-11-19 15:15:50 -0500 (Wed, 19 Nov 2025) EndedAt: 2025-11-19 15:16:01 -0500 (Wed, 19 Nov 2025) EllapsedTime: 10.3 seconds RetCode: 0 Status: OK