Package: RUCova Version: 1.3.0 Command: /Library/Frameworks/R.framework/Resources/bin/R CMD build --keep-empty-dirs --no-resave-data RUCova StartedAt: 2025-11-18 17:41:25 -0500 (Tue, 18 Nov 2025) EndedAt: 2025-11-18 17:41:51 -0500 (Tue, 18 Nov 2025) EllapsedTime: 26.3 seconds RetCode: 0 Status: OK PackageFile: RUCova_1.3.0.tar.gz PackageFileSize: 5.391 MiB