Package: RUCova Version: 1.3.0 Command: rm -rf RUCova.buildbin-libdir && mkdir RUCova.buildbin-libdir && /Users/biocbuild/BBS/utils/build-universal.sh RUCova_1.3.0.tar.gz /Library/Frameworks/R.framework/Resources/bin/R RUCova.buildbin-libdir StartedAt: 2025-11-18 23:57:34 -0500 (Tue, 18 Nov 2025) EndedAt: 2025-11-18 23:57:47 -0500 (Tue, 18 Nov 2025) EllapsedTime: 13.3 seconds RetCode: 0 Status: OK PackageFile: RUCova_1.3.0.tgz PackageFileSize: 5.403 MiB