Package: RTopper Version: 1.55.0 Command: /Library/Frameworks/R.framework/Resources/bin/R CMD check --install=check:RTopper.install-out.txt --library=/Library/Frameworks/R.framework/Resources/library --no-vignettes --timings RTopper_1.55.0.tar.gz StartedAt: 2025-05-06 23:09:59 -0400 (Tue, 06 May 2025) EndedAt: 2025-05-06 23:11:21 -0400 (Tue, 06 May 2025) EllapsedTime: 81.3 seconds RetCode: 0 Status: OK CheckDir: RTopper.Rcheck Warnings: 0