Package: RTopper Version: 1.55.0 Command: /Library/Frameworks/R.framework/Resources/bin/R CMD build --keep-empty-dirs --no-resave-data RTopper StartedAt: 2025-05-06 18:12:15 -0400 (Tue, 06 May 2025) EndedAt: 2025-05-06 18:13:31 -0400 (Tue, 06 May 2025) EllapsedTime: 75.5 seconds RetCode: 0 Status: OK PackageFile: RTopper_1.55.0.tar.gz PackageFileSize: 1.348 MiB