Package: RTopper Version: 1.55.0 Command: rm -rf RTopper.buildbin-libdir && mkdir RTopper.buildbin-libdir && /Users/biocbuild/BBS/utils/build-universal.sh RTopper_1.55.0.tar.gz /Library/Frameworks/R.framework/Resources/bin/R RTopper.buildbin-libdir StartedAt: 2025-09-30 02:04:19 -0400 (Tue, 30 Sep 2025) EndedAt: 2025-09-30 02:04:35 -0400 (Tue, 30 Sep 2025) EllapsedTime: 16.2 seconds RetCode: 0 Status: OK PackageFile: RTopper_1.55.0.tgz PackageFileSize: 1.375 MiB