Package: RTNsurvival Version: 1.33.0 Command: rm -rf RTNsurvival.buildbin-libdir && mkdir RTNsurvival.buildbin-libdir && /Users/biocbuild/BBS/utils/build-universal.sh RTNsurvival_1.33.0.tar.gz /Library/Frameworks/R.framework/Resources/bin/R RTNsurvival.buildbin-libdir StartedAt: 2025-05-16 22:20:51 -0400 (Fri, 16 May 2025) EndedAt: 2025-05-16 22:21:04 -0400 (Fri, 16 May 2025) EllapsedTime: 13.3 seconds RetCode: 0 Status: OK PackageFile: RTNsurvival_1.33.0.tgz PackageFileSize: 953.4 KiB