Package: RTNduals Version: 1.33.0 Command: /home/biocbuild/bbs-3.22-bioc/R/bin/R CMD INSTALL RTNduals StartedAt: 2025-10-13 15:25:23 -0400 (Mon, 13 Oct 2025) EndedAt: 2025-10-13 15:25:52 -0400 (Mon, 13 Oct 2025) EllapsedTime: 28.9 seconds RetCode: 0 Status: OK