Package: RTNduals Version: 1.33.0 Command: /home/biocbuild/bbs-3.22-bioc/R/bin/R CMD build --keep-empty-dirs --no-resave-data --md5 RTNduals StartedAt: 2025-10-13 19:48:55 -0400 (Mon, 13 Oct 2025) EndedAt: 2025-10-13 19:50:13 -0400 (Mon, 13 Oct 2025) EllapsedTime: 78.1 seconds RetCode: 0 Status: OK PackageFile: RTNduals_1.33.0.tar.gz PackageFileSize: 585.9 KiB