Package: RTNduals Version: 1.33.0 Command: /Library/Frameworks/R.framework/Resources/bin/R CMD check --install=check:RTNduals.install-out.txt --library=/Library/Frameworks/R.framework/Resources/library --no-vignettes --timings RTNduals_1.33.0.tar.gz StartedAt: 2025-05-07 23:10:08 -0400 (Wed, 07 May 2025) EndedAt: 2025-05-07 23:16:54 -0400 (Wed, 07 May 2025) EllapsedTime: 406.4 seconds RetCode: 0 Status: OK CheckDir: RTNduals.Rcheck Warnings: 0