Package: RTNduals Version: 1.33.0 Command: /Library/Frameworks/R.framework/Resources/bin/R CMD build --keep-empty-dirs --no-resave-data RTNduals StartedAt: 2025-05-07 18:13:40 -0400 (Wed, 07 May 2025) EndedAt: 2025-05-07 18:15:14 -0400 (Wed, 07 May 2025) EllapsedTime: 93.7 seconds RetCode: 0 Status: OK PackageFile: RTNduals_1.33.0.tar.gz PackageFileSize: 584.3 KiB