Package: RTN Version: 2.33.0 Command: /home/biocbuild/bbs-3.22-bioc/R/bin/R CMD INSTALL RTN StartedAt: 2025-10-09 15:19:54 -0400 (Thu, 09 Oct 2025) EndedAt: 2025-10-09 15:20:31 -0400 (Thu, 09 Oct 2025) EllapsedTime: 37.1 seconds RetCode: 0 Status: OK