Package: RTN Version: 2.33.0 Command: /home/biocbuild/bbs-3.22-bioc/R/bin/R CMD build --keep-empty-dirs --no-resave-data --md5 RTN StartedAt: 2025-10-09 19:48:30 -0400 (Thu, 09 Oct 2025) EndedAt: 2025-10-09 19:50:55 -0400 (Thu, 09 Oct 2025) EllapsedTime: 145.1 seconds RetCode: 0 Status: OK PackageFile: RTN_2.33.0.tar.gz PackageFileSize: 10.27 MiB