Package: RTN Version: 2.31.0 Command: /Library/Frameworks/R.framework/Resources/bin/R CMD check --install=check:RTN.install-out.txt --library=/Library/Frameworks/R.framework/Resources/library --no-vignettes --timings RTN_2.31.0.tar.gz StartedAt: 2025-02-03 21:41:37 -0500 (Mon, 03 Feb 2025) EndedAt: 2025-02-03 21:43:15 -0500 (Mon, 03 Feb 2025) EllapsedTime: 97.2 seconds RetCode: 0 Status: OK CheckDir: RTN.Rcheck Warnings: 0