Package: RTN Version: 2.31.0 Command: /Library/Frameworks/R.framework/Resources/bin/R CMD build --keep-empty-dirs --no-resave-data RTN StartedAt: 2025-02-03 18:04:23 -0500 (Mon, 03 Feb 2025) EndedAt: 2025-02-03 18:05:27 -0500 (Mon, 03 Feb 2025) EllapsedTime: 63.8 seconds RetCode: 0 Status: OK PackageFile: RTN_2.31.0.tar.gz PackageFileSize: 10.26 MiB