Package: RTCGAToolbox Version: 2.41.0 Command: /home/biocbuild/bbs-3.23-bioc/R/bin/R CMD INSTALL RTCGAToolbox StartedAt: 2025-11-05 15:50:33 -0500 (Wed, 05 Nov 2025) EndedAt: 2025-11-05 15:50:58 -0500 (Wed, 05 Nov 2025) EllapsedTime: 25.3 seconds RetCode: 0 Status: OK