Package: RTCGAToolbox Version: 2.41.0 Command: /home/biocbuild/bbs-3.23-bioc/R/bin/R CMD build --keep-empty-dirs --no-resave-data RTCGAToolbox StartedAt: 2025-11-05 19:45:27 -0500 (Wed, 05 Nov 2025) EndedAt: 2025-11-05 19:46:06 -0500 (Wed, 05 Nov 2025) EllapsedTime: 39.0 seconds RetCode: 1 Status: ERROR PackageFile: None PackageFileSize: NA