Package: RTCGAToolbox Version: 2.37.2 Command: /Library/Frameworks/R.framework/Resources/bin/R CMD build --keep-empty-dirs --no-resave-data RTCGAToolbox StartedAt: 2024-12-24 18:03:30 -0500 (Tue, 24 Dec 2024) EndedAt: 2024-12-24 18:04:27 -0500 (Tue, 24 Dec 2024) EllapsedTime: 57.1 seconds RetCode: 0 Status: OK PackageFile: RTCGAToolbox_2.37.2.tar.gz PackageFileSize: 2.329 MiB