Package: RTCGA Version: 1.39.0 Command: rm -rf RTCGA.buildbin-libdir && mkdir RTCGA.buildbin-libdir && F:\biocbuild\bbs-3.22-bioc\R\bin\R.exe CMD INSTALL --build --library=RTCGA.buildbin-libdir RTCGA_1.39.0.tar.gz StartedAt: 2025-08-15 11:11:34 -0400 (Fri, 15 Aug 2025) EndedAt: 2025-08-15 11:12:01 -0400 (Fri, 15 Aug 2025) EllapsedTime: 26.6 seconds RetCode: 0 Status: OK PackageFile: RTCGA_1.39.0.zip PackageFileSize: 2.539 MiB