Package: RTCGA Version: 1.37.0 Command: chmod a+r RTCGA -R && E:\biocbuild\bbs-3.21-bioc\R\bin\R.exe CMD build --keep-empty-dirs --no-resave-data RTCGA StartedAt: 2025-02-04 21:21:34 -0500 (Tue, 04 Feb 2025) EndedAt: 2025-02-04 21:22:14 -0500 (Tue, 04 Feb 2025) EllapsedTime: 39.3 seconds RetCode: 0 Status: OK PackageFile: RTCGA_1.37.0.tar.gz PackageFileSize: 2.437 MiB