Package: RTCGA Version: 1.37.0 Command: rm -rf RTCGA.buildbin-libdir && mkdir RTCGA.buildbin-libdir && E:\biocbuild\bbs-3.21-bioc\R\bin\R.exe CMD INSTALL --build --library=RTCGA.buildbin-libdir RTCGA_1.37.0.tar.gz StartedAt: 2025-02-05 08:48:04 -0500 (Wed, 05 Feb 2025) EndedAt: 2025-02-05 08:48:35 -0500 (Wed, 05 Feb 2025) EllapsedTime: 30.3 seconds RetCode: 0 Status: OK PackageFile: RTCGA_1.37.0.zip PackageFileSize: 2.539 MiB