Package: RTCA Version: 1.61.0 Command: /home/biocbuild/R/R/bin/R CMD INSTALL RTCA StartedAt: 2025-10-23 20:30:37 -0000 (Thu, 23 Oct 2025) EndedAt: 2025-10-23 20:30:43 -0000 (Thu, 23 Oct 2025) EllapsedTime: 6.4 seconds RetCode: 0 Status: OK