Package: RTCA Version: 1.61.0 Command: /home/biocbuild/R/R/bin/R CMD build --keep-empty-dirs --no-resave-data RTCA StartedAt: 2025-10-21 02:40:56 -0000 (Tue, 21 Oct 2025) EndedAt: 2025-10-21 02:41:08 -0000 (Tue, 21 Oct 2025) EllapsedTime: 12.0 seconds RetCode: 0 Status: OK PackageFile: RTCA_1.61.0.tar.gz PackageFileSize: 330 KiB