Package: RTCA Version: 1.61.0 Command: /Library/Frameworks/R.framework/Resources/bin/R CMD INSTALL RTCA StartedAt: 2025-05-22 15:14:34 -0400 (Thu, 22 May 2025) EndedAt: 2025-05-22 15:14:41 -0400 (Thu, 22 May 2025) EllapsedTime: 7.1 seconds RetCode: 0 Status: OK