Package: RTCA Version: 1.61.0 Command: rm -rf RTCA.buildbin-libdir && mkdir RTCA.buildbin-libdir && /Users/biocbuild/BBS/utils/build-universal.sh RTCA_1.61.0.tar.gz /Library/Frameworks/R.framework/Resources/bin/R RTCA.buildbin-libdir StartedAt: 2025-05-27 01:22:22 -0400 (Tue, 27 May 2025) EndedAt: 2025-05-27 01:22:35 -0400 (Tue, 27 May 2025) EllapsedTime: 12.6 seconds RetCode: 0 Status: OK PackageFile: RTCA_1.61.0.tgz PackageFileSize: 594.9 KiB