Package: RSeqAn Version: 1.29.0 Command: /home/biocbuild/bbs-3.22-bioc/R/bin/R CMD build --keep-empty-dirs --no-resave-data --md5 RSeqAn StartedAt: 2025-10-01 20:06:38 -0400 (Wed, 01 Oct 2025) EndedAt: 2025-10-01 20:06:54 -0400 (Wed, 01 Oct 2025) EllapsedTime: 16.0 seconds RetCode: 0 Status: OK PackageFile: RSeqAn_1.29.0.tar.gz PackageFileSize: 1.642 MiB