Package: RSVSim Version: 1.49.0 Command: chmod a+r RSVSim -R && F:\biocbuild\bbs-3.22-bioc\R\bin\R.exe CMD build --keep-empty-dirs --no-resave-data RSVSim StartedAt: 2025-08-14 22:54:31 -0400 (Thu, 14 Aug 2025) EndedAt: 2025-08-14 22:55:44 -0400 (Thu, 14 Aug 2025) EllapsedTime: 73.0 seconds RetCode: 0 Status: OK PackageFile: RSVSim_1.49.0.tar.gz PackageFileSize: 504.4 KiB