Package: RSVSim Version: 1.49.0 Command: rm -rf RSVSim.buildbin-libdir && mkdir RSVSim.buildbin-libdir && F:\biocbuild\bbs-3.22-bioc\R\bin\R.exe CMD INSTALL --build --library=RSVSim.buildbin-libdir RSVSim_1.49.0.tar.gz StartedAt: 2025-08-15 11:11:21 -0400 (Fri, 15 Aug 2025) EndedAt: 2025-08-15 11:12:05 -0400 (Fri, 15 Aug 2025) EllapsedTime: 43.7 seconds RetCode: 0 Status: OK PackageFile: RSVSim_1.49.0.zip PackageFileSize: 616.9 KiB