Package: RSVSim Version: 1.49.0 Command: /home/biocbuild/bbs-3.22-bioc/R/bin/R CMD INSTALL RSVSim StartedAt: 2025-09-29 16:02:39 -0400 (Mon, 29 Sep 2025) EndedAt: 2025-09-29 16:03:21 -0400 (Mon, 29 Sep 2025) EllapsedTime: 41.9 seconds RetCode: 0 Status: OK