Package: RRHO Version: 1.49.0 Command: /home/biocbuild/bbs-3.22-bioc/R/bin/R CMD INSTALL RRHO StartedAt: 2025-10-21 15:06:52 -0400 (Tue, 21 Oct 2025) EndedAt: 2025-10-21 15:07:09 -0400 (Tue, 21 Oct 2025) EllapsedTime: 16.9 seconds RetCode: 0 Status: OK