Package: RRHO Version: 1.49.0 Command: /home/biocbuild/bbs-3.22-bioc/R/bin/R CMD build --keep-empty-dirs --no-resave-data --md5 RRHO StartedAt: 2025-10-21 19:44:13 -0400 (Tue, 21 Oct 2025) EndedAt: 2025-10-21 19:44:20 -0400 (Tue, 21 Oct 2025) EllapsedTime: 7.0 seconds RetCode: 0 Status: OK PackageFile: RRHO_1.49.0.tar.gz PackageFileSize: 716.7 KiB