Package: RRHO Version: 1.49.0 Command: /Library/Frameworks/R.framework/Resources/bin/R CMD INSTALL RRHO StartedAt: 2025-05-02 15:02:37 -0400 (Fri, 02 May 2025) EndedAt: 2025-05-02 15:02:45 -0400 (Fri, 02 May 2025) EllapsedTime: 7.8 seconds RetCode: 0 Status: OK