Package: RRHO Version: 1.49.0 Command: rm -rf RRHO.buildbin-libdir && mkdir RRHO.buildbin-libdir && /Users/biocbuild/BBS/utils/build-universal.sh RRHO_1.49.0.tar.gz /Library/Frameworks/R.framework/Resources/bin/R RRHO.buildbin-libdir StartedAt: 2025-10-12 22:51:32 -0400 (Sun, 12 Oct 2025) EndedAt: 2025-10-12 22:51:34 -0400 (Sun, 12 Oct 2025) EllapsedTime: 2.0 seconds RetCode: 0 Status: OK PackageFile: RRHO_1.49.0.tgz PackageFileSize: 750.5 KiB