Package: RProtoBufLib Version: 2.21.0 Command: /home/biocbuild/R/R/bin/R CMD INSTALL RProtoBufLib StartedAt: 2025-10-23 20:17:30 -0000 (Thu, 23 Oct 2025) EndedAt: 2025-10-23 20:24:30 -0000 (Thu, 23 Oct 2025) EllapsedTime: 419.2 seconds RetCode: 0 Status: OK