Package: RProtoBufLib Version: 2.21.0 Command: /Library/Frameworks/R.framework/Resources/bin/R CMD check --install=check:RProtoBufLib.install-out.txt --library=/Library/Frameworks/R.framework/Resources/library --no-vignettes --timings RProtoBufLib_2.21.0.tar.gz StartedAt: 2025-05-15 22:59:17 -0400 (Thu, 15 May 2025) EndedAt: 2025-05-15 22:59:42 -0400 (Thu, 15 May 2025) EllapsedTime: 25.3 seconds RetCode: 0 Status: WARNINGS CheckDir: RProtoBufLib.Rcheck Warnings: 2