Package: RProtoBufLib Version: 2.21.0 Command: /Library/Frameworks/R.framework/Resources/bin/R CMD build --keep-empty-dirs --no-resave-data RProtoBufLib StartedAt: 2025-05-15 18:11:30 -0400 (Thu, 15 May 2025) EndedAt: 2025-05-15 18:16:41 -0400 (Thu, 15 May 2025) EllapsedTime: 310.8 seconds RetCode: 0 Status: OK PackageFile: RProtoBufLib_2.21.0.tar.gz PackageFileSize: 2.786 MiB