Package: RProtoBufLib Version: 2.21.0 Command: rm -rf RProtoBufLib.buildbin-libdir && mkdir RProtoBufLib.buildbin-libdir && /Users/biocbuild/BBS/utils/build-universal.sh RProtoBufLib_2.21.0.tar.gz /Library/Frameworks/R.framework/Resources/bin/R RProtoBufLib.buildbin-libdir StartedAt: 2025-05-16 00:49:26 -0400 (Fri, 16 May 2025) EndedAt: 2025-05-16 00:56:43 -0400 (Fri, 16 May 2025) EllapsedTime: 436.9 seconds RetCode: 0 Status: OK PackageFile: RProtoBufLib_2.21.0.tgz PackageFileSize: 3.461 MiB