Package: RProtoBufLib Version: 2.21.0 Command: /Library/Frameworks/R.framework/Resources/bin/R CMD INSTALL RProtoBufLib StartedAt: 2025-05-16 15:01:52 -0400 (Fri, 16 May 2025) EndedAt: 2025-05-16 15:03:19 -0400 (Fri, 16 May 2025) EllapsedTime: 86.8 seconds RetCode: 0 Status: OK