Package: RProtoBufLib Version: 2.21.0 Command: /Library/Frameworks/R.framework/Resources/bin/R CMD check --install=check:RProtoBufLib.install-out.txt --library=/Library/Frameworks/R.framework/Resources/library --no-vignettes --timings RProtoBufLib_2.21.0.tar.gz StartedAt: 2025-05-18 20:57:17 -0400 (Sun, 18 May 2025) EndedAt: 2025-05-18 20:57:28 -0400 (Sun, 18 May 2025) EllapsedTime: 11.1 seconds RetCode: 0 Status: WARNINGS CheckDir: RProtoBufLib.Rcheck Warnings: 2