Package: RProtoBufLib Version: 2.21.0 Command: /Library/Frameworks/R.framework/Resources/bin/R CMD build --keep-empty-dirs --no-resave-data RProtoBufLib StartedAt: 2025-05-18 17:21:15 -0400 (Sun, 18 May 2025) EndedAt: 2025-05-18 17:22:45 -0400 (Sun, 18 May 2025) EllapsedTime: 90.1 seconds RetCode: 0 Status: OK PackageFile: RProtoBufLib_2.21.0.tar.gz PackageFileSize: 2.796 MiB