Package: RPA Version: 1.63.0 Command: /home/biocbuild/bbs-3.21-bioc/R/bin/R CMD INSTALL RPA StartedAt: 2025-02-03 15:26:42 -0500 (Mon, 03 Feb 2025) EndedAt: 2025-02-03 15:27:02 -0500 (Mon, 03 Feb 2025) EllapsedTime: 19.7 seconds RetCode: 0 Status: OK